BEGIN:VCALENDAR
VERSION:2.0
PRODID:-//wp-events-plugin.com//7.2.3.1//EN
BEGIN:VEVENT
UID:663@rnsbdc.com
DTSTART:20220221T090000Z
DTEND:20220221T160000Z
DTSTAMP:20220102T180312Z
URL:https://www.rnsbdc.com/events/winning-public-federal-contracts-virtual
 -workshop-5/
SUMMARY:Winning Public Federal Contracts Virtual Workshop
DESCRIPTION:This all day training course will provide small business partic
 ipants with an in-depth understanding of government contracting and the fe
 deral procurement process. 
ATTACH;FMTTYPE=image/jpeg:https://www.rnsbdc.com/wp-content/uploads/2016/1
 2/government-contracts.jpg
CATEGORIES:Government Contracting
LOCATION:Online Webinar - ZOOM\,  \,  \, United States
X-APPLE-STRUCTURED-LOCATION;VALUE=URI;X-ADDRESS= \,  \, United States;X-APP
 LE-RADIUS=100;X-TITLE=Online Webinar - ZOOM:geo:0,0
END:VEVENT
END:VCALENDAR