BEGIN:VCALENDAR
VERSION:2.0
PRODID:-//wp-events-plugin.com//7.2.3.1//EN
BEGIN:VEVENT
UID:880@rnsbdc.com
DTSTART;TZID=America/New_York:20230504T130000
DTEND;TZID=America/New_York:20230504T143000
DTSTAMP:20230131T174627Z
URL:https://www.rnsbdc.com/events/exploring-business-ownership-through-fra
 nchising-webinar-5/
SUMMARY:Exploring Business Ownership Through Franchising Webinar
DESCRIPTION:This webinar will provide an overview of the franchising opport
 unities available to start a business.
ATTACH;FMTTYPE=image/jpeg:https://www.rnsbdc.com/wp-content/uploads/2020/1
 2/franchises.jpg
CATEGORIES:Startup Assistance,Startups &amp; New Businesses
LOCATION:ONLINE\, WEBINAR\, ZOOM\, United States
X-APPLE-STRUCTURED-LOCATION;VALUE=URI;X-ADDRESS=WEBINAR\, ZOOM\, United Sta
 tes;X-APPLE-RADIUS=100;X-TITLE=ONLINE:geo:0,0
END:VEVENT
BEGIN:VTIMEZONE
TZID:America/New_York
X-LIC-LOCATION:America/New_York
BEGIN:DAYLIGHT
DTSTART:20230312T030000
TZOFFSETFROM:-0500
TZOFFSETTO:-0400
TZNAME:EDT
END:DAYLIGHT
END:VTIMEZONE
END:VCALENDAR