BEGIN:VCALENDAR
VERSION:2.0
PRODID:-//wp-events-plugin.com//7.2.3.1//EN
BEGIN:VEVENT
UID:575@rnsbdc.com
DTSTART:20210623T150000Z
DTEND:20210623T163000Z
DTSTAMP:20210413T180353Z
URL:https://www.rnsbdc.com/events/credit-management-understanding-personal
 -credit-scores-6-23-21/
SUMMARY:Credit Management: Understanding Personal Credit & Scores Webinar
DESCRIPTION:Most people fund their first business with their personal credi
 t not knowing the risk it involves. Join us as we share tips and best prac
 tices on how to get yourself back on track to better manage your personal 
 credit and increase your score.
ATTACH;FMTTYPE=image/jpeg:https://www.rnsbdc.com/wp-content/uploads/2020/0
 7/Main-BusinessCredit.jpg
CATEGORIES:Financing &amp; Capital
LOCATION:ONLINE\, WEBINAR\, ZOOM\, United States
X-APPLE-STRUCTURED-LOCATION;VALUE=URI;X-ADDRESS=WEBINAR\, ZOOM\, United Sta
 tes;X-APPLE-RADIUS=100;X-TITLE=ONLINE:geo:0,0
END:VEVENT
END:VCALENDAR