BEGIN:VCALENDAR
VERSION:2.0
PRODID:-//wp-events-plugin.com//7.2.3.1//EN
BEGIN:VEVENT
UID:489@rnsbdc.com
DTSTART:20210304T150000Z
DTEND:20210304T163000Z
DTSTAMP:20201218T010226Z
URL:https://www.rnsbdc.com/events/360-digital-marketing-dna-webinar-10/
SUMMARY:360 Digital Marketing DNA Webinar
DESCRIPTION:Design a marketing campaign that engages with customers and dri
 ves them to buy your product or services.
ATTACH;FMTTYPE=image/jpeg:https://www.rnsbdc.com/wp-content/uploads/2019/1
 1/marketing.jpg
CATEGORIES:Digital Marketing,Marketing
LOCATION:ONLINE\, WEBINAR\, ZOOM\, United States
X-APPLE-STRUCTURED-LOCATION;VALUE=URI;X-ADDRESS=WEBINAR\, ZOOM\, United Sta
 tes;X-APPLE-RADIUS=100;X-TITLE=ONLINE:geo:0,0
END:VEVENT
END:VCALENDAR